BEGIN:VCALENDAR
VERSION:2.0
PRODID:-//Hypothesis - ECPv6.11.2//NONSGML v1.0//EN
CALSCALE:GREGORIAN
METHOD:PUBLISH
X-WR-CALNAME:Hypothesis
X-ORIGINAL-URL:https://web.hypothes.is
X-WR-CALDESC:Events for Hypothesis
REFRESH-INTERVAL;VALUE=DURATION:PT1H
X-Robots-Tag:noindex
X-PUBLISHED-TTL:PT1H
BEGIN:VTIMEZONE
TZID:America/New_York
BEGIN:DAYLIGHT
TZOFFSETFROM:-0500
TZOFFSETTO:-0400
TZNAME:EDT
DTSTART:20250309T070000
END:DAYLIGHT
BEGIN:STANDARD
TZOFFSETFROM:-0400
TZOFFSETTO:-0500
TZNAME:EST
DTSTART:20251102T060000
END:STANDARD
END:VTIMEZONE
BEGIN:VEVENT
DTSTART;TZID=America/New_York:20250226T130000
DTEND;TZID=America/New_York:20250226T140000
DTSTAMP:20260419T132925
CREATED:20250124T200205Z
LAST-MODIFIED:20250227T190558Z
UID:9004111222055689-1740574800-1740578400@web.hypothes.is
SUMMARY:Annotate This #5: Exciting New Features to Elevate Engagement
DESCRIPTION:Get ready to explore Hypothesis’s latest tools and features designed to make teaching and learning easier\, more engaging\, and more collaborative. This session will give you everything you need to make the most of our newest Hypothesis updates in your classroom or institution. \nHere’s a sneak peek at what we’ll cover: \n  \nLMS Reporting Dashboard for Instructors \nOur new LMS Reporting Dashboard is here\, giving you powerful insights into annotation activity in your courses. \n\nReal-Time Analytics: Keep track of student engagement with live data.\nAnnotation Counts: Easily monitor participation with assignment-based annotation summaries.\nHolistic View: See trends and focus areas across all your courses.\n\nThis tool is designed to help you better understand and foster meaningful interaction in your courses. \nAuto-Grading\nSimplify your grading process with our new auto-grading feature. \n\nCustomize grading criteria to match your teaching goals.\nGet real-time insights into student participation and performance.\nSave time while keeping your grading fair and consistent\, even in large classes.\n\nIt’s grading made smarter! \n@Mentions\nOur new @mentions feature makes it easier than ever to connect and collaborate. \n\nTag others in your annotations to spark richer conversations.\nEncourage engagement across a variety of use cases\, from classroom discussions to public projects.\nBuild a stronger sense of community in your courses.\n\nInclusive Access through VitalSource\, Follett and Pressbooks\nNow it’s even simpler to use Hypothesis with your favorite tools: \n\nFollett: NEW! Schools can now use Hypothesis on a per-course basis through Follett.\nVitalSource: Schools can use Hypothesis on a per-course basis through Bookshelf and Verba Collect.\nPressbooks: Hypothesis is now built into Pressbooks installations and books hosted on pressbooks.com. Activate it with just a few clicks in the settings\, and enjoy native annotation capabilities on designated pages.\n\nDon’t miss out on the chance to revolutionize how you teach and collaborate. \nRegister now to save your spot and discover how Hypothesis can transform your classroom! \nRegister Here
URL:https://web.hypothes.is/event/annotate-this-5-exciting-new-features-to-elevate-engagement/
CATEGORIES:Community,Webinars
END:VEVENT
END:VCALENDAR