BEGIN:VCALENDAR
VERSION:2.0
PRODID:-//Hypothesis - ECPv6.11.2//NONSGML v1.0//EN
CALSCALE:GREGORIAN
METHOD:PUBLISH
X-WR-CALNAME:Hypothesis
X-ORIGINAL-URL:https://web.hypothes.is
X-WR-CALDESC:Events for Hypothesis
REFRESH-INTERVAL;VALUE=DURATION:PT1H
X-Robots-Tag:noindex
X-PUBLISHED-TTL:PT1H
BEGIN:VTIMEZONE
TZID:America/New_York
BEGIN:DAYLIGHT
TZOFFSETFROM:-0500
TZOFFSETTO:-0400
TZNAME:EDT
DTSTART:20190310T070000
END:DAYLIGHT
BEGIN:STANDARD
TZOFFSETFROM:-0400
TZOFFSETTO:-0500
TZNAME:EST
DTSTART:20191103T060000
END:STANDARD
END:VTIMEZONE
BEGIN:VEVENT
DTSTART;TZID=America/New_York:20191014T180000
DTEND;TZID=America/New_York:20191014T190000
DTSTAMP:20260422T143238
CREATED:20210316T234203Z
LAST-MODIFIED:20210316T234203Z
UID:17553-1571076000-1571079600@web.hypothes.is
SUMMARY:AnnotatED Summit at EDUCAUSE 2019
DESCRIPTION:AnnotatED Summit at the University of Illinois at Chicago Center for Literacy during EDUCAUSE 2019 in Chicago\, Illinois\, USA. \nAnnotatED is a community of educators\, researchers\, scholars\, and designers interested in collaborative digital annotation in teaching and learning. \n\nLearn how annotation is transforming educational and scholarly practices.\nShare stories and strategies for using collaborative annotation in classrooms and research.\nDiscuss implementing annotation in your own practices.\nConnect with peers at other institutions.\n\nThe event is organized and led by the UIC Center for Literacy and Hypothesis\, the nonprofit behind the leading open collaboration annotation service. \nProgram\n\nWelcome: Kira Baker-Doyle\, Director\, UIC Center for Literacy\nAnnotation for digital literacy in teaching\, learning and research: Nate Angell\, Hypothesis\nCollaborative reading: “Cultivating Urban Literacies on Chicago’s South Side through a Pedagogy of Spatial Justice“\nDiscussion: Incorporating annotation into our practices
URL:https://web.hypothes.is/event/annotated-summit-at-educause-2019/
CATEGORIES:AnnotatED,Workshop
END:VEVENT
BEGIN:VEVENT
DTSTART;TZID=America/New_York:20191029T150000
DTEND;TZID=America/New_York:20191029T160000
DTSTAMP:20260422T143238
CREATED:20201103T203612Z
LAST-MODIFIED:20201202T211334Z
UID:16362-1572361200-1572364800@web.hypothes.is
SUMMARY:AnnotatED at OERizona and OpenEd 2019
DESCRIPTION:We traveled to Glendale Community College in Glendale\, Arizona\, for OERizona\, a free day-long workshop the day before the 2019 Open Education Conference (30 Oct–1 Nov)\, where participants engaged in hands-on activities with open education. Practitioners from around Arizona\, the USA\, and beyond came together to make meaningful change in their open education community. Those unable to travel to Glendale attended as virtual participants. For more\, visit our companion blog post.
URL:https://web.hypothes.is/event/annotated-at-oerizona-and-opened-2019/
CATEGORIES:AnnotatED,Webinars,Workshop
END:VEVENT
END:VCALENDAR