BEGIN:VCALENDAR
VERSION:2.0
PRODID:-//Hypothesis - ECPv6.11.2//NONSGML v1.0//EN
CALSCALE:GREGORIAN
METHOD:PUBLISH
X-ORIGINAL-URL:https://web.hypothes.is
X-WR-CALDESC:Events for Hypothesis
REFRESH-INTERVAL;VALUE=DURATION:PT1H
X-Robots-Tag:noindex
X-PUBLISHED-TTL:PT1H
BEGIN:VTIMEZONE
TZID:America/New_York
BEGIN:DAYLIGHT
TZOFFSETFROM:-0500
TZOFFSETTO:-0400
TZNAME:EDT
DTSTART:20190310T070000
END:DAYLIGHT
BEGIN:STANDARD
TZOFFSETFROM:-0400
TZOFFSETTO:-0500
TZNAME:EST
DTSTART:20191103T060000
END:STANDARD
END:VTIMEZONE
BEGIN:VEVENT
DTSTART;TZID=America/New_York:20190814T150000
DTEND;TZID=America/New_York:20190814T160000
DTSTAMP:20260422T184414
CREATED:20201201T195339Z
LAST-MODIFIED:20210316T230340Z
UID:16570-1565794800-1565798400@web.hypothes.is
SUMMARY:Webinar: Collaborative Web Annotation With Hypothesis in Canvas
DESCRIPTION:Our webinar\, held on Wednesday 14 August 2019\, focused on the simple steps to start using collaborative annotation in your class in Instructure Canvas with Hypothesis. Watch the webinar on YouTube.
URL:https://web.hypothes.is/event/webinar-collaborative-web-annotation-with-hypothesis-in-canvas/
CATEGORIES:AnnotatED,Webinars
END:VEVENT
END:VCALENDAR