BEGIN:VCALENDAR
VERSION:2.0
PRODID:-//Hypothesis - ECPv6.11.2//NONSGML v1.0//EN
CALSCALE:GREGORIAN
METHOD:PUBLISH
X-WR-CALNAME:Hypothesis
X-ORIGINAL-URL:https://web.hypothes.is
X-WR-CALDESC:Events for Hypothesis
REFRESH-INTERVAL;VALUE=DURATION:PT1H
X-Robots-Tag:noindex
X-PUBLISHED-TTL:PT1H
BEGIN:VTIMEZONE
TZID:America/New_York
BEGIN:DAYLIGHT
TZOFFSETFROM:-0500
TZOFFSETTO:-0400
TZNAME:EDT
DTSTART:20190310T070000
END:DAYLIGHT
BEGIN:STANDARD
TZOFFSETFROM:-0400
TZOFFSETTO:-0500
TZNAME:EST
DTSTART:20191103T060000
END:STANDARD
END:VTIMEZONE
BEGIN:VEVENT
DTSTART;TZID=America/New_York:20191119T150000
DTEND;TZID=America/New_York:20191119T160000
DTSTAMP:20260422T143429
CREATED:20201104T172338Z
LAST-MODIFIED:20201201T184752Z
UID:16367-1574175600-1574179200@web.hypothes.is
SUMMARY:AnnotatED With Hypothesis at OLC Accelerate Live! 2019
DESCRIPTION:As a part of our continuing series of AnnotatED events\, Hypothesis participated in OLC Live\, the free online virtual conference that ran parallel with the OLC Accelerate 2019 conference in Orlando\, Florida\, USA. Educators and others joined us online for 4 days of sessions focused on themes of openness and online education. Visit our companion blog post for more.
URL:https://web.hypothes.is/event/annotated-with-hypothesis-at-olc-accelerate-live-2019/
CATEGORIES:AnnotatED
END:VEVENT
END:VCALENDAR