BEGIN:VCALENDAR
VERSION:2.0
PRODID:-//Hypothesis - ECPv6.11.2//NONSGML v1.0//EN
CALSCALE:GREGORIAN
METHOD:PUBLISH
X-ORIGINAL-URL:https://web.hypothes.is
X-WR-CALDESC:Events for Hypothesis
REFRESH-INTERVAL;VALUE=DURATION:PT1H
X-Robots-Tag:noindex
X-PUBLISHED-TTL:PT1H
BEGIN:VTIMEZONE
TZID:America/New_York
BEGIN:DAYLIGHT
TZOFFSETFROM:-0500
TZOFFSETTO:-0400
TZNAME:EDT
DTSTART:20210314T070000
END:DAYLIGHT
BEGIN:STANDARD
TZOFFSETFROM:-0400
TZOFFSETTO:-0500
TZNAME:EST
DTSTART:20211107T060000
END:STANDARD
BEGIN:DAYLIGHT
TZOFFSETFROM:-0500
TZOFFSETTO:-0400
TZNAME:EDT
DTSTART:20220313T070000
END:DAYLIGHT
BEGIN:STANDARD
TZOFFSETFROM:-0400
TZOFFSETTO:-0500
TZNAME:EST
DTSTART:20221106T060000
END:STANDARD
END:VTIMEZONE
BEGIN:VEVENT
DTSTART;TZID=America/New_York:20210209T160000
DTEND;TZID=America/New_York:20210209T170000
DTSTAMP:20260422T181004
CREATED:20210120T154835Z
LAST-MODIFIED:20210519T204730Z
UID:17085-1612886400-1612890000@web.hypothes.is
SUMMARY:Hypothesis 101: Learn More About Social Annotation
DESCRIPTION:In Hypothesis 101\, on Tues\, 9 Feb 2021\, we’ll introduce the Hypothesis annotation tool and show how collaborative annotation can transform your classroom\, making reading active\, visible\, and social.
URL:https://web.hypothes.is/event/hypothesis-101-learn-more-about-social-annotation-2/
CATEGORIES:Hypothesis 101,Webinars
ATTACH;FMTTYPE=image/gif:https://d242fdlp0qlcia.cloudfront.net/uploads/2021/02/04160007/peechee1.gif
END:VEVENT
BEGIN:VEVENT
DTSTART;TZID=America/New_York:20210304T163000
DTEND;TZID=America/New_York:20210304T173000
DTSTAMP:20260422T181004
CREATED:20210222T165517Z
LAST-MODIFIED:20210504T201928Z
UID:17389-1614875400-1614879000@web.hypothes.is
SUMMARY:Hypothesis 101: Learn More About Social Annotation
DESCRIPTION:In Hypothesis 101 on Thur 4 March 2021\, we’ll introduce the Hypothesis annotation tool and show how collaborative annotation can transform your classroom\, making reading active\, visible\, and social. \nIf you missed Hypothesis 101\, you can RSVP for a future session or view a recording.
URL:https://web.hypothes.is/event/hypothesis-101-learn-more-about-social-annotation-3/
CATEGORIES:Hypothesis 101,Webinars
ATTACH;FMTTYPE=image/gif:https://d242fdlp0qlcia.cloudfront.net/uploads/2021/02/04160007/peechee1.gif
END:VEVENT
BEGIN:VEVENT
DTSTART;TZID=America/New_York:20210316T170000
DTEND;TZID=America/New_York:20210316T180000
DTSTAMP:20260422T181004
CREATED:20210222T170254Z
LAST-MODIFIED:20210504T201738Z
UID:17392-1615914000-1615917600@web.hypothes.is
SUMMARY:Hypothesis 101: Learn More About Social Annotation
DESCRIPTION:In Hypothesis 101 on Tues 16 March 2021\, we’ll introduce the Hypothesis annotation tool and show how collaborative annotation can transform your classroom\, making reading active\, visible\, and social. \nIf you missed Hypothesis 101\, you can RSVP for a future session or view a recording.
URL:https://web.hypothes.is/event/hypothesis-101-learn-more-about-social-annotation-4/
CATEGORIES:Hypothesis 101,Webinars
ATTACH;FMTTYPE=image/gif:https://d242fdlp0qlcia.cloudfront.net/uploads/2021/02/04160007/peechee1.gif
END:VEVENT
BEGIN:VEVENT
DTSTART;TZID=America/New_York:20210331T120000
DTEND;TZID=America/New_York:20210331T130000
DTSTAMP:20260422T181004
CREATED:20210222T170828Z
LAST-MODIFIED:20210916T001944Z
UID:17394-1617192000-1617195600@web.hypothes.is
SUMMARY:Hypothesis 101: Learn More About Social Annotation
DESCRIPTION:In Hypothesis 101 on Wed 31 March 2021\, we’ll introduce the Hypothesis annotation tool and show how collaborative annotation can transform your classroom\, making reading active\, visible\, and social. \nIf you missed Hypothesis 101\, you can RSVP for a future session or view a recording.
URL:https://web.hypothes.is/event/hypothesis-101-learn-more-about-social-annotation-5/
CATEGORIES:Hypothesis 101,Webinars
ATTACH;FMTTYPE=image/gif:https://d242fdlp0qlcia.cloudfront.net/uploads/2021/02/04160007/peechee1.gif
END:VEVENT
BEGIN:VEVENT
DTSTART;TZID=America/New_York:20210415T140000
DTEND;TZID=America/New_York:20210415T150000
DTSTAMP:20260422T181004
CREATED:20210222T171347Z
LAST-MODIFIED:20210916T001943Z
UID:17396-1618495200-1618498800@web.hypothes.is
SUMMARY:Hypothesis 101: Learn More About Social Annotation
DESCRIPTION:In Hypothesis 101 on Thur 15 April 2021\, we’ll introduce the Hypothesis annotation tool and show how collaborative annotation can transform your classroom\, making reading active\, visible\, and social. \nIf you missed Hypothesis 101\, you can RSVP for a future session or view a recording.
URL:https://web.hypothes.is/event/hypothesis-101-learn-more-about-social-annotation-6/
CATEGORIES:Hypothesis 101,Webinars
ATTACH;FMTTYPE=image/gif:https://d242fdlp0qlcia.cloudfront.net/uploads/2021/02/04160007/peechee1.gif
END:VEVENT
BEGIN:VEVENT
DTSTART;TZID=America/New_York:20210427T170000
DTEND;TZID=America/New_York:20210427T180000
DTSTAMP:20260422T181004
CREATED:20210222T171855Z
LAST-MODIFIED:20210916T001943Z
UID:17398-1619542800-1619546400@web.hypothes.is
SUMMARY:Hypothesis 101: Learn More About Social Annotation
DESCRIPTION:In Hypothesis 101 on Tues 27 April 2021\, we’ll introduce the Hypothesis annotation tool and show how collaborative annotation can transform your classroom\, making reading active\, visible\, and social.
URL:https://web.hypothes.is/event/hypothesis-101-learn-more-about-social-annotation-7/
CATEGORIES:Hypothesis 101,Webinars
ATTACH;FMTTYPE=image/gif:https://d242fdlp0qlcia.cloudfront.net/uploads/2021/02/04160007/peechee1.gif
END:VEVENT
BEGIN:VEVENT
DTSTART;TZID=America/New_York:20210512T140000
DTEND;TZID=America/New_York:20210512T150000
DTSTAMP:20260422T181004
CREATED:20210416T193232Z
LAST-MODIFIED:20210916T001943Z
UID:17879-1620828000-1620831600@web.hypothes.is
SUMMARY:Hypothesis 101: Learn More About Social Annotation
DESCRIPTION:In Hypothesis 101 on Wed 12 May 2021\, we’ll introduce the Hypothesis annotation tool and show how collaborative annotation can transform your classroom\, making reading active\, visible\, and social.
URL:https://web.hypothes.is/event/hypothesis-101-learn-more-about-social-annotation-9/
CATEGORIES:Hypothesis 101,Webinars
ATTACH;FMTTYPE=image/gif:https://d242fdlp0qlcia.cloudfront.net/uploads/2021/02/04160007/peechee1.gif
END:VEVENT
BEGIN:VEVENT
DTSTART;TZID=America/New_York:20210527T140000
DTEND;TZID=America/New_York:20210527T150000
DTSTAMP:20260422T181004
CREATED:20210416T195221Z
LAST-MODIFIED:20210916T001943Z
UID:17882-1622124000-1622127600@web.hypothes.is
SUMMARY:Hypothesis 101: Learn More About Social Annotation
DESCRIPTION:In Hypothesis 101 on Thur\, 27 May 2021\, we’ll introduce the Hypothesis annotation tool and show how collaborative annotation can transform your classroom\, making reading active\, visible\, and social.
URL:https://web.hypothes.is/event/hypothesis-101-learn-more-about-social-annotation-10/
CATEGORIES:Hypothesis 101,Webinars
ATTACH;FMTTYPE=image/gif:https://d242fdlp0qlcia.cloudfront.net/uploads/2021/02/04160007/peechee1.gif
END:VEVENT
BEGIN:VEVENT
DTSTART;TZID=America/New_York:20210603T140000
DTEND;TZID=America/New_York:20210603T150000
DTSTAMP:20260422T181004
CREATED:20210512T204043Z
LAST-MODIFIED:20210916T001942Z
UID:18199-1622728800-1622732400@web.hypothes.is
SUMMARY:Hypothesis 101: Learn More About Social Annotation
DESCRIPTION:In Hypothesis 101 on Thur\, 3 June\, 2021\, we’ll introduce the Hypothesis annotation tool and show how collaborative annotation can transform your classroom\, making reading active\, visible\, and social. RSVP
URL:https://web.hypothes.is/event/hypothesis-101-learn-more-about-social-annotation-12/
CATEGORIES:Hypothesis 101,Webinars
ATTACH;FMTTYPE=image/gif:https://d242fdlp0qlcia.cloudfront.net/uploads/2021/02/04160007/peechee1.gif
END:VEVENT
BEGIN:VEVENT
DTSTART;TZID=America/New_York:20210615T150000
DTEND;TZID=America/New_York:20210615T160000
DTSTAMP:20260422T181004
CREATED:20210512T205647Z
LAST-MODIFIED:20210916T001942Z
UID:18202-1623769200-1623772800@web.hypothes.is
SUMMARY:Hypothesis 101: Learn More About Social Annotation
DESCRIPTION:In Hypothesis 101 on Tues\, 15 June\, 2021\, we’ll introduce the Hypothesis annotation tool and show how collaborative annotation can transform your classroom\, making reading active\, visible\, and social.
URL:https://web.hypothes.is/event/hypothesis-101-learn-more-about-social-annotation-13/
CATEGORIES:Hypothesis 101,Webinars
ATTACH;FMTTYPE=image/gif:https://d242fdlp0qlcia.cloudfront.net/uploads/2021/02/04160007/peechee1.gif
END:VEVENT
BEGIN:VEVENT
DTSTART;TZID=America/New_York:20210715T140000
DTEND;TZID=America/New_York:20210715T150000
DTSTAMP:20260422T181004
CREATED:20210628T151711Z
LAST-MODIFIED:20210916T001942Z
UID:18331-1626357600-1626361200@web.hypothes.is
SUMMARY:Hypothesis 101: Learn More About Social Annotation
DESCRIPTION:This webinar introduces and demonstrates the Hypothesis annotation tool and shows how collaborative annotation can transform your classroom\, making reading active\, visible\, and social.
URL:https://web.hypothes.is/event/hypothesis-101/
CATEGORIES:Hypothesis 101,Webinars
ATTACH;FMTTYPE=image/gif:https://d242fdlp0qlcia.cloudfront.net/uploads/2021/02/04160007/peechee1.gif
END:VEVENT
BEGIN:VEVENT
DTSTART;TZID=America/New_York:20210728T150000
DTEND;TZID=America/New_York:20210728T160000
DTSTAMP:20260422T181004
CREATED:20210628T152328Z
LAST-MODIFIED:20210916T001941Z
UID:18334-1627484400-1627488000@web.hypothes.is
SUMMARY:Hypothesis 101: Learn More About Social Annotation
DESCRIPTION:This webinar introduces and demonstrates the Hypothesis annotation tool and shows how collaborative annotation can transform your classroom\, making reading active\, visible\, and social.
URL:https://web.hypothes.is/event/hypothesis-101-learn-more-about-social-annotation-14/
CATEGORIES:Hypothesis 101,Webinars
ATTACH;FMTTYPE=image/gif:https://d242fdlp0qlcia.cloudfront.net/uploads/2021/02/04160007/peechee1.gif
END:VEVENT
BEGIN:VEVENT
DTSTART;TZID=America/New_York:20210803T120000
DTEND;TZID=America/New_York:20210803T130000
DTSTAMP:20260422T181004
CREATED:20210719T190838Z
LAST-MODIFIED:20210916T001941Z
UID:18572-1627992000-1627995600@web.hypothes.is
SUMMARY:Hypothesis 101: Learn More About Social Annotation
DESCRIPTION:This webinar introduces and demonstrates the Hypothesis annotation tool and shows how collaborative annotation can transform your classroom\, making reading active\, visible\, and social.
URL:https://web.hypothes.is/event/hypothesis-101-2/
CATEGORIES:Hypothesis 101,Webinars,Workshop
ATTACH;FMTTYPE=image/gif:https://d242fdlp0qlcia.cloudfront.net/uploads/2021/02/04160007/peechee1.gif
END:VEVENT
BEGIN:VEVENT
DTSTART;TZID=America/New_York:20210812T150000
DTEND;TZID=America/New_York:20210812T160000
DTSTAMP:20260422T181004
CREATED:20210719T191514Z
LAST-MODIFIED:20210916T001941Z
UID:18575-1628780400-1628784000@web.hypothes.is
SUMMARY:Hypothesis 101: Learn More About Social Annotation
DESCRIPTION:This webinar introduces and demonstrates the Hypothesis annotation tool and shows how collaborative annotation can transform your classroom\, making reading active\, visible\, and social.
URL:https://web.hypothes.is/event/hypothesis-101-3/
CATEGORIES:Hypothesis 101,Webinars
ATTACH;FMTTYPE=image/gif:https://d242fdlp0qlcia.cloudfront.net/uploads/2021/02/04160007/peechee1.gif
END:VEVENT
BEGIN:VEVENT
DTSTART;TZID=America/New_York:20210818T160000
DTEND;TZID=America/New_York:20210818T170000
DTSTAMP:20260422T181004
CREATED:20210719T192400Z
LAST-MODIFIED:20210916T001941Z
UID:18578-1629302400-1629306000@web.hypothes.is
SUMMARY:Hypothesis 101: Learn More About Social Annotation
DESCRIPTION:This webinar introduces and demonstrates the Hypothesis annotation tool and shows how collaborative annotation can transform your classroom\, making reading active\, visible\, and social.
URL:https://web.hypothes.is/event/hypothesis-101-4/
CATEGORIES:Hypothesis 101,Webinars
ATTACH;FMTTYPE=image/gif:https://d242fdlp0qlcia.cloudfront.net/uploads/2021/02/04160007/peechee1.gif
END:VEVENT
BEGIN:VEVENT
DTSTART;TZID=America/New_York:20210824T130000
DTEND;TZID=America/New_York:20210824T140000
DTSTAMP:20260422T181004
CREATED:20210719T192941Z
LAST-MODIFIED:20210916T001940Z
UID:18580-1629810000-1629813600@web.hypothes.is
SUMMARY:Hypothesis 101: Learn More About Social Annotation
DESCRIPTION:This webinar introduces and demonstrates the Hypothesis annotation tool and shows how collaborative annotation can transform your classroom\, making reading active\, visible\, and social.
URL:https://web.hypothes.is/event/hypothesis-101-learn-more-about-social-annotation-15/
CATEGORIES:Hypothesis 101,Webinars
ATTACH;FMTTYPE=image/gif:https://d242fdlp0qlcia.cloudfront.net/uploads/2021/02/04160007/peechee1.gif
END:VEVENT
BEGIN:VEVENT
DTSTART;TZID=America/New_York:20210902T150000
DTEND;TZID=America/New_York:20210902T160000
DTSTAMP:20260422T181004
CREATED:20210719T193839Z
LAST-MODIFIED:20210916T001940Z
UID:18585-1630594800-1630598400@web.hypothes.is
SUMMARY:Hypothesis 101: Learn More About Social Annotation
DESCRIPTION:This webinar introduces and demonstrates the Hypothesis annotation tool and shows how collaborative annotation can transform your classroom\, making reading active\, visible\, and social.
URL:https://web.hypothes.is/event/hypothesis-101-learn-more-about-social-annotation-16/
CATEGORIES:Hypothesis 101,Webinars
ATTACH;FMTTYPE=image/gif:https://d242fdlp0qlcia.cloudfront.net/uploads/2021/02/04160007/peechee1.gif
END:VEVENT
BEGIN:VEVENT
DTSTART;TZID=America/New_York:20210908T170000
DTEND;TZID=America/New_York:20210908T180000
DTSTAMP:20260422T181004
CREATED:20210719T194302Z
LAST-MODIFIED:20210930T182818Z
UID:18587-1631120400-1631124000@web.hypothes.is
SUMMARY:Hypothesis 101: Learn More About Social Annotation
DESCRIPTION:This webinar introduces and demonstrates the Hypothesis annotation tool and shows how collaborative annotation can transform your classroom\, making reading active\, visible\, and social.
URL:https://web.hypothes.is/event/hypothesis-101-learn-more-about-social-annotation-17/
CATEGORIES:Hypothesis 101,Webinars
ATTACH;FMTTYPE=image/gif:https://d242fdlp0qlcia.cloudfront.net/uploads/2021/02/04160007/peechee1.gif
END:VEVENT
BEGIN:VEVENT
DTSTART;TZID=America/New_York:20210914T130000
DTEND;TZID=America/New_York:20210914T140000
DTSTAMP:20260422T181004
CREATED:20210719T194624Z
LAST-MODIFIED:20210916T001940Z
UID:18589-1631624400-1631628000@web.hypothes.is
SUMMARY:Hypothesis 101: Learn More About Social Annotation
DESCRIPTION:This webinar introduces and demonstrates the Hypothesis annotation tool and shows how collaborative annotation can transform your classroom\, making reading active\, visible\, and social.
URL:https://web.hypothes.is/event/hypothesis-101-learn-more-about-social-annotation-18/
CATEGORIES:Hypothesis 101,Webinars
ATTACH;FMTTYPE=image/gif:https://d242fdlp0qlcia.cloudfront.net/uploads/2021/02/04160007/peechee1.gif
END:VEVENT
BEGIN:VEVENT
DTSTART;TZID=America/New_York:20210923T150000
DTEND;TZID=America/New_York:20210923T160000
DTSTAMP:20260422T181004
CREATED:20210719T195155Z
LAST-MODIFIED:20210930T183556Z
UID:18593-1632409200-1632412800@web.hypothes.is
SUMMARY:Hypothesis 101: Learn More About Social Annotation
DESCRIPTION:This webinar introduces and demonstrates the Hypothesis annotation tool and shows how collaborative annotation can transform your classroom\, making reading active\, visible\, and social.
URL:https://web.hypothes.is/event/hypothesis-101-learn-more-about-social-annotation-19/
CATEGORIES:Hypothesis 101,Webinars
ATTACH;FMTTYPE=image/gif:https://d242fdlp0qlcia.cloudfront.net/uploads/2021/02/04160007/peechee1.gif
END:VEVENT
BEGIN:VEVENT
DTSTART;TZID=America/New_York:20210929T120000
DTEND;TZID=America/New_York:20210929T130000
DTSTAMP:20260422T181004
CREATED:20210719T195657Z
LAST-MODIFIED:20210930T183819Z
UID:18595-1632916800-1632920400@web.hypothes.is
SUMMARY:Hypothesis 101: Learn More About Social Annotation
DESCRIPTION:This webinar introduces and demonstrates the Hypothesis annotation tool and shows how collaborative annotation can transform your classroom\, making reading active\, visible\, and social.
URL:https://web.hypothes.is/event/hypothesis-101-learn-more-about-social-annotation-20/
CATEGORIES:Hypothesis 101,Webinars
ATTACH;FMTTYPE=image/gif:https://d242fdlp0qlcia.cloudfront.net/uploads/2021/02/04160007/peechee1.gif
END:VEVENT
BEGIN:VEVENT
DTSTART;TZID=America/New_York:20211005T130000
DTEND;TZID=America/New_York:20211005T140000
DTSTAMP:20260422T181004
CREATED:20210922T181442Z
LAST-MODIFIED:20211006T204053Z
UID:19442-1633438800-1633442400@web.hypothes.is
SUMMARY:Hypothesis 101: Learn More About Social Annotation
DESCRIPTION:This webinar introduces and demonstrates the Hypothesis annotation tool and shows how collaborative annotation can transform your classroom\, making reading active\, visible\, and social.
URL:https://web.hypothes.is/event/hypothesis-101-learn-more-about-social-annotation-21/
CATEGORIES:Hypothesis 101
ATTACH;FMTTYPE=image/gif:https://d242fdlp0qlcia.cloudfront.net/uploads/2021/02/04160007/peechee1.gif
END:VEVENT
BEGIN:VEVENT
DTSTART;TZID=America/New_York:20211019T150000
DTEND;TZID=America/New_York:20211019T160000
DTSTAMP:20260422T181004
CREATED:20210922T182001Z
LAST-MODIFIED:20211109T210423Z
UID:19444-1634655600-1634659200@web.hypothes.is
SUMMARY:Hypothesis 101: Learn More About Social Annotation
DESCRIPTION:This webinar introduces and demonstrates the Hypothesis annotation tool and shows how collaborative annotation can transform your classroom\, making reading active\, visible\, and social.
URL:https://web.hypothes.is/event/hypothesis-101-learn-more-about-social-annotation-22/
CATEGORIES:Hypothesis 101
ATTACH;FMTTYPE=image/gif:https://d242fdlp0qlcia.cloudfront.net/uploads/2021/02/04160007/peechee1.gif
END:VEVENT
BEGIN:VEVENT
DTSTART;TZID=America/New_York:20211104T130000
DTEND;TZID=America/New_York:20211104T140000
DTSTAMP:20260422T181004
CREATED:20210922T182642Z
LAST-MODIFIED:20211109T210311Z
UID:19446-1636030800-1636034400@web.hypothes.is
SUMMARY:Hypothesis 101: Learn More About Social Annotation
DESCRIPTION:This webinar introduces and demonstrates the Hypothesis annotation tool and shows how collaborative annotation can transform your classroom\, making reading active\, visible\, and social.
URL:https://web.hypothes.is/event/hypothesis-101-learn-more-about-social-annotation-23/
CATEGORIES:Hypothesis 101
ATTACH;FMTTYPE=image/gif:https://d242fdlp0qlcia.cloudfront.net/uploads/2021/02/04160007/peechee1.gif
END:VEVENT
BEGIN:VEVENT
DTSTART;TZID=America/New_York:20211116T150000
DTEND;TZID=America/New_York:20211116T160000
DTSTAMP:20260422T181004
CREATED:20210922T183051Z
LAST-MODIFIED:20211116T201142Z
UID:19448-1637074800-1637078400@web.hypothes.is
SUMMARY:Hypothesis 101: Learn More About Social Annotation
DESCRIPTION:This webinar introduces and demonstrates the Hypothesis annotation tool and shows how collaborative annotation can transform your classroom\, making reading active\, visible\, and social.
URL:https://web.hypothes.is/event/hypothesis-101-learn-more-about-social-annotation-24/
CATEGORIES:Hypothesis 101
ATTACH;FMTTYPE=image/gif:https://d242fdlp0qlcia.cloudfront.net/uploads/2021/02/04160007/peechee1.gif
END:VEVENT
BEGIN:VEVENT
DTSTART;TZID=America/New_York:20211209T150000
DTEND;TZID=America/New_York:20211209T160000
DTSTAMP:20260422T181004
CREATED:20211105T184650Z
LAST-MODIFIED:20211209T183832Z
UID:19889-1639062000-1639065600@web.hypothes.is
SUMMARY:Hypothesis 101: Learn More About Social Annotation
DESCRIPTION:This webinar introduces and demonstrates the Hypothesis annotation tool and shows how collaborative annotation can transform your classroom\, making reading active\, visible\, and social.
URL:https://web.hypothes.is/event/hypothesis-101-learn-more-about-social-annotation-25/
CATEGORIES:Hypothesis 101
ATTACH;FMTTYPE=image/gif:https://d242fdlp0qlcia.cloudfront.net/uploads/2021/02/04160007/peechee1.gif
END:VEVENT
BEGIN:VEVENT
DTSTART;TZID=America/New_York:20220113T150000
DTEND;TZID=America/New_York:20220113T160000
DTSTAMP:20260422T181004
CREATED:20211105T185257Z
LAST-MODIFIED:20220113T192825Z
UID:19892-1642086000-1642089600@web.hypothes.is
SUMMARY:Hypothesis 101: Learn More About Social Annotation
DESCRIPTION:This webinar introduces and demonstrates the Hypothesis annotation tool and shows how collaborative annotation can transform your classroom\, making reading active\, visible\, and social.
URL:https://web.hypothes.is/event/hypothesis-101-learn-more-about-social-annotation-26/
CATEGORIES:Hypothesis 101
ATTACH;FMTTYPE=image/gif:https://d242fdlp0qlcia.cloudfront.net/uploads/2021/02/04160007/peechee1.gif
END:VEVENT
BEGIN:VEVENT
DTSTART;TZID=America/New_York:20220120T150000
DTEND;TZID=America/New_York:20220120T160000
DTSTAMP:20260422T181004
CREATED:20211105T185942Z
LAST-MODIFIED:20220125T222847Z
UID:19895-1642690800-1642694400@web.hypothes.is
SUMMARY:Hypothesis 101: Learn More About Social Annotation
DESCRIPTION:This webinar introduces and demonstrates the Hypothesis annotation tool and shows how collaborative annotation can transform your classroom\, making reading active\, visible\, and social.
URL:https://web.hypothes.is/event/hypothesis-101-learn-more-about-social-annotation-27/
CATEGORIES:Hypothesis 101
ATTACH;FMTTYPE=image/gif:https://d242fdlp0qlcia.cloudfront.net/uploads/2021/02/04160007/peechee1.gif
END:VEVENT
BEGIN:VEVENT
DTSTART;TZID=America/New_York:20220127T150000
DTEND;TZID=America/New_York:20220127T160000
DTSTAMP:20260422T181004
CREATED:20211105T190646Z
LAST-MODIFIED:20220127T204631Z
UID:19897-1643295600-1643299200@web.hypothes.is
SUMMARY:Hypothesis 101: Learn More About Social Annotation
DESCRIPTION:This webinar introduces and demonstrates the Hypothesis annotation tool and shows how collaborative annotation can transform your classroom\, making reading active\, visible\, and social.
URL:https://web.hypothes.is/event/hypothesis-101-learn-more-about-social-annotation-28/
CATEGORIES:Hypothesis 101
ATTACH;FMTTYPE=image/gif:https://d242fdlp0qlcia.cloudfront.net/uploads/2021/02/04160007/peechee1.gif
END:VEVENT
BEGIN:VEVENT
DTSTART;TZID=America/New_York:20220203T150000
DTEND;TZID=America/New_York:20220203T160000
DTSTAMP:20260422T181004
CREATED:20220125T161040Z
LAST-MODIFIED:20220204T213324Z
UID:20519-1643900400-1643904000@web.hypothes.is
SUMMARY:Hypothesis 101: Learn More About Social Annotation
DESCRIPTION:Get introduced to Hypothesis and see a demo showing how collaborative annotation can transform classrooms\, making reading active\, visible\, and social.
URL:https://web.hypothes.is/event/hypothesis-101-learn-more-about-social-annotation-29/
CATEGORIES:Hypothesis 101,Webinars
ATTACH;FMTTYPE=image/gif:https://d242fdlp0qlcia.cloudfront.net/uploads/2021/02/04160007/peechee1.gif
END:VEVENT
END:VCALENDAR